BEGIN:VCALENDAR
VERSION:2.0
PRODID:-//Tukios.com/
BEGIN:VEVENT
UID:870a3048-9716-47b6-a0f6-a1a3e448e06d@www.connellfuneral.com
DTSTAMP:20260423T190257Z
DTSTART:20260429T150000Z
DTEND:20260429T160000Z
SUMMARY:Mass
DESCRIPTION:
URL:https://www.connellfuneral.com/obituaries/anna-chickey
LOCATION:St. Anne Catholic Church 450 East Washington Ave.  Bethlehem PA 
	18017
GEO:40.6347718;-75.3665063
END:VEVENT
END:VCALENDAR