BEGIN:VCALENDAR
VERSION:2.0
PRODID:-//Tukios.com/
BEGIN:VEVENT
UID:29abc358-d556-4121-9d50-b91914988ee4@www.connellfuneral.com
DTSTAMP:20260423T185526Z
DTSTART:20260429T140000Z
DTEND:20260429T150000Z
SUMMARY:Visitation
DESCRIPTION:
URL:https://www.connellfuneral.com/obituaries/anna-chickey
LOCATION:St. Anne Catholic Church 450 East Washington Ave.  Bethlehem PA 
	18017
GEO:40.6347718;-75.3665063
END:VEVENT
END:VCALENDAR