BEGIN:VCALENDAR
VERSION:2.0
PRODID:-//Tukios.com/
BEGIN:VEVENT
UID:621146d2-ee27-4296-b598-892281ca686a@www.connellfuneral.com
DTSTAMP:20260421T215409Z
DTSTART:20260425T160000Z
DTEND:20260425T161500Z
SUMMARY:Graveside Service
DESCRIPTION:
URL:https://www.connellfuneral.com/obituaries/anna-marie-dolgos
LOCATION:Holy Saviour Cemetery 2575 Linden St.  Bethlehem PA 18017
GEO:40.6517287;-75.3638083
END:VEVENT
END:VCALENDAR