BEGIN:VCALENDAR
VERSION:2.0
PRODID:-//Tukios.com/
BEGIN:VEVENT
UID:20ffde28-2b72-4f50-98c1-2936287278a6@www.connellfuneral.com
DTSTAMP:20260421T215518Z
DTSTART:20260425T150000Z
DTEND:20260425T160000Z
SUMMARY:Memorial Service
DESCRIPTION:
URL:https://www.connellfuneral.com/obituaries/anna-marie-dolgos
LOCATION:Connell Funeral Home 245 E. Broad Street  Bethlehem PA 18018
GEO:40.6223202;-75.3714691
END:VEVENT
END:VCALENDAR