BEGIN:VCALENDAR
VERSION:2.0
PRODID:-//Tukios.com/
BEGIN:VEVENT
UID:20bea8cb-3f27-48e4-92ed-ef716095e3e3@www.connellfuneral.com
DTSTAMP:20260421T215424Z
DTSTART:20260425T140000Z
DTEND:20260425T150000Z
SUMMARY:Calling Hour
DESCRIPTION:
URL:https://www.connellfuneral.com/obituaries/anna-marie-dolgos
LOCATION:Connell Funeral Home 245 E. Broad Street  Bethlehem PA 18018
GEO:40.6223202;-75.3714691
END:VEVENT
END:VCALENDAR