BEGIN:VCALENDAR
VERSION:2.0
PRODID:-//Tukios.com/
BEGIN:VEVENT
UID:a1c6fa17-ec6c-47df-931f-5b2574d16b92@www.connellfuneral.com
DTSTAMP:20260420T190035Z
DTSTART:20260423T150000Z
DTEND:20260423T153000Z
SUMMARY:Funeral Service
DESCRIPTION:
URL:https://www.connellfuneral.com/obituaries/bettyjane-balogh
LOCATION:Connell Funeral Home 245 E. Broad Street  Bethlehem PA 18018
GEO:40.6223202;-75.3714691
END:VEVENT
END:VCALENDAR