BEGIN:VCALENDAR
VERSION:2.0
PRODID:-//Tukios.com/
BEGIN:VEVENT
UID:952cf30c-3b7b-4261-a73f-b7554747b8d3@www.connellfuneral.com
DTSTAMP:20260420T185725Z
DTSTART:20260423T140000Z
DTEND:20260423T150000Z
SUMMARY:Calling Hour
DESCRIPTION:
URL:https://www.connellfuneral.com/obituaries/bettyjane-balogh
LOCATION:Connell Funeral Home 245 E. Broad Street  Bethlehem PA 18018
GEO:40.6223202;-75.3714691
END:VEVENT
END:VCALENDAR