BEGIN:VCALENDAR
VERSION:2.0
PRODID:-//Tukios.com/
BEGIN:VEVENT
UID:60981eb1-96fe-48d4-9274-e22f12010a85@www.connellfuneral.com
DTSTAMP:20260422T222300Z
DTSTART:20260427T150000Z
DTEND:20260427T160000Z
SUMMARY:Mass
DESCRIPTION:
URL:https://www.connellfuneral.com/obituaries/francis-ezar
LOCATION:Incarnation of Our Lord Parish  617 Pierce Street  Bethlehem PA 
	18015
GEO:40.6086291;-75.3695489
END:VEVENT
END:VCALENDAR