BEGIN:VCALENDAR
VERSION:2.0
PRODID:-//Tukios.com/
BEGIN:VEVENT
UID:a16edb04-f6bb-4281-b659-b12106eeab81@www.connellfuneral.com
DTSTAMP:20260422T222433Z
DTSTART:20260427T140000Z
DTEND:20260427T150000Z
SUMMARY:Public Viewing
DESCRIPTION:
URL:https://www.connellfuneral.com/obituaries/francis-ezar
LOCATION:Incarnation of Our Lord Parish  617 Pierce Street  Bethlehem PA 
	18015
GEO:40.6086291;-75.3695489
END:VEVENT
END:VCALENDAR