BEGIN:VCALENDAR
VERSION:2.0
PRODID:-//Tukios.com/
BEGIN:VEVENT
UID:4a4811c0-a8bb-4b20-96b4-05616f649a63@www.connellfuneral.com
DTSTAMP:20260423T172829Z
DTSTART:20260427T150000Z
DTEND:20260427T160000Z
SUMMARY:Public Viewing
DESCRIPTION:
URL:https://www.connellfuneral.com/obituaries/juan-orta
LOCATION:Connell Funeral Home 245 E. Broad Street  Bethlehem PA 18018
GEO:40.6223202;-75.3714691
END:VEVENT
END:VCALENDAR