BEGIN:VCALENDAR
VERSION:2.0
PRODID:-//Tukios.com/
BEGIN:VEVENT
UID:e55c8a38-6ae7-4a5a-95e8-74976ffccca4@www.connellfuneral.com
DTSTAMP:20260423T172224Z
DTSTART:20260427T160000Z
DTEND:20260427T170000Z
SUMMARY:Funeral Service
DESCRIPTION:
URL:https://www.connellfuneral.com/obituaries/juan-orta
LOCATION:Connell Funeral Home, Inc. 245 E. Broad St  Bethlehem PA 18018
GEO:40.6223959;-75.3714909
END:VEVENT
END:VCALENDAR