BEGIN:VCALENDAR
VERSION:2.0
PRODID:-//Tukios.com/
BEGIN:VEVENT
UID:721afd54-2090-408c-8406-b43292f7359b@www.connellfuneral.com
DTSTAMP:20260422T141153Z
DTSTART:20260516T150000Z
DTEND:20260516T153000Z
SUMMARY:Memorial Service
DESCRIPTION:
URL:https://www.connellfuneral.com/obituaries/kayleigh-de-rosa
LOCATION:Connell Funeral Home 245 E. Broad Street  Bethlehem PA 18018
GEO:40.6223202;-75.3714691
END:VEVENT
END:VCALENDAR