BEGIN:VCALENDAR
VERSION:2.0
PRODID:-//Tukios.com/
BEGIN:VEVENT
UID:b6d748fb-9abd-40f6-8c50-b43049c6ab8c@www.connellfuneral.com
DTSTAMP:20260422T141024Z
DTSTART:20260516T140000Z
DTEND:20260517T030000Z
SUMMARY:Visitation
DESCRIPTION:
URL:https://www.connellfuneral.com/obituaries/kayleigh-de-rosa
LOCATION:Connell Funeral Home, Inc. 245 E. Broad St  Bethlehem PA 18018
GEO:40.6223959;-75.3714909
END:VEVENT
END:VCALENDAR