BEGIN:VCALENDAR
VERSION:2.0
PRODID:-//Tukios.com/
BEGIN:VEVENT
UID:8921d145-8866-49bd-bb1c-f1fe1572e0df@www.connellfuneral.com
DTSTAMP:20260421T215014Z
DTSTART:20260428T140000Z
DTEND:20260428T150000Z
SUMMARY:Public Viewing
DESCRIPTION:
URL:https://www.connellfuneral.com/obituaries/mary-hudak
LOCATION:Connell Funeral Home 245 E. Broad Street  Bethlehem PA 18018
GEO:40.6223202;-75.3714691
END:VEVENT
END:VCALENDAR