BEGIN:VCALENDAR
VERSION:2.0
PRODID:-//Tukios.com/
BEGIN:VEVENT
UID:76f7c516-2bc6-4343-b276-bc2994fcd3cf@www.connellfuneral.com
DTSTAMP:20260421T215308Z
DTSTART:20260427T220000Z
DTEND:20260428T000000Z
SUMMARY:Public Viewing
DESCRIPTION:
URL:https://www.connellfuneral.com/obituaries/mary-hudak
LOCATION:Connell Funeral Home, Inc. 245 E. Broad St  Bethlehem PA 18018
GEO:40.6223959;-75.3714909
END:VEVENT
END:VCALENDAR