BEGIN:VCALENDAR
VERSION:2.0
PRODID:-//Tukios.com/
BEGIN:VEVENT
UID:b2f4cd9f-f2bc-4634-a740-c1eda1c316ee@www.connellfuneral.com
DTSTAMP:20260420T191831Z
DTSTART:20260424T150000Z
DTEND:20260424T153000Z
SUMMARY:Graveside Service
DESCRIPTION:
URL:https://www.connellfuneral.com/obituaries/ronald-meixell
LOCATION:Holy Saviour Cemetery 2575 Linden St.  Bethlehem PA 18017
GEO:40.6517287;-75.3638083
END:VEVENT
END:VCALENDAR